BEGIN:VCALENDAR
VERSION:2.0
PRODID:-//hacksw/handcal//NONSGML v1.0//EN
BEGIN:VEVENT
SUMMARY:Samedi 18 avril : Rando Cyclo club de Romagnieu (38)
UID:845e7d88-5fcb-47f2-bbfe-9affd61397eb
DTSTART:20260417T220000Z
DTEND:20260418T220000Z
LOCATION:Localisation   
CATEGORIES:Sportif
STATUS:
DESCRIPTION:<p>Le cyclo club de Romagnieu organise sa
 traditionnelle <strong>randonnee cyclo le samedi 18
 avril.</strong></p>
 
 <p>Vous aurez le choix entre trois parcours qui
 iront dans l'Ain et la Savoie avec une boucle supplementaire en
 option sur le grand parcours.</p>
 
 <p>- 64 km : 824 m de
 denivele</p>
 
 <p>- 78 km : 1138 m de denivele</p>
 
 <p>- 89 km : 1294
 m et 94 km : 1431m de denivele.</p>
 
 <p><b><u>Tarifs</u></b>: 7€
 pour les licencies FFCT (gratuit pour les moins de 18 ans) et 10€
 pour les non licencies et autres licences (3€ pour les moins de
 18)</p>
 
 <p><strong>>>> les inscriptions de 12 h a 13h pour les 89
 et 94 km, de 12h a 14h pour le 78 km et jusqu'a 15h pour le 64
 km.</strong><br>
 Bien sur, vous trouverez un ou plusieurs ravitos sur
 votre parcours et une part de tarte au sucre vous sera offerte a
 votre retour. <br>
 Infos : <a
 href="https://www.cyclovttromagnieu.com/" target="_blank"
 rel="noreferrer noopener">https://www.cyclovttromagnieu.com/</a></p>
URL;VALUE=URI:https://www.cyclosbisserains.fr/evenements/2026/04/18/samedi-18-avril-rando-cyclo-club-de-romagnieu-38-2432749
END:VEVENT
END:VCALENDAR
