BEGIN:VCALENDAR
VERSION:2.0
PRODID:-//hacksw/handcal//NONSGML v1.0//EN
BEGIN:VEVENT
SUMMARY:Jeudi 16 avril 18H30 : preparation sejour Vaison la Romaine
UID:12f31711-c506-47c8-8fab-dff1991f31d7
DTSTART:20260415T220000Z
DTEND:20260416T220000Z
LOCATION:Localisation   
CATEGORIES:Sportif
STATUS:
DESCRIPTION:<p>RDV 18H30 au local club pour les participants au
 sejour a Vaison la Romaine en mai 2026 :<br>
 covoiturage, chambres,
 parcours, village vacances, ...<br>
 Sejour complet en demi
 pension. </p>
URL;VALUE=URI:https://www.cyclosbisserains.fr/evenements/2026/04/16/jeudi-16-avril-18h30-preparation-sejour-vaison-la-romaine-2441286
END:VEVENT
END:VCALENDAR
